BEGIN:VCALENDAR
VERSION:2.0
PRODID:-//TYPO3/NONSGML Calendarize//EN
BEGIN:VEVENT
UID:calendarize-spectacle-de-marionnettes-de-la-compagnie-pataclowns
SUMMARY:Spectacle de marionnettes de la Compagnie Pataclowns
DESCRIPTION:
DTSTAMP:20260422T170845Z
DTSTART:20260527T120000Z
DTEND:20260527T130000Z
LOCATION:Aula du Collège de l’Union (Prilly)
END:VEVENT
END:VCALENDAR
