BEGIN:VCALENDAR
VERSION:2.0
PRODID:-//TYPO3/NONSGML Calendarize//EN
BEGIN:VEVENT
UID:calendarize-selection-de-livres-prevention-du-racisme-interculturalite
SUMMARY:Sélection de livres – prévention du racisme & interculturalité
DESCRIPTION:
DTSTAMP:20260422T171209Z
DTSTART:20260511T060000Z
DTEND:20260527T163000Z
LOCATION:Bibliothèque 
END:VEVENT
END:VCALENDAR
