BEGIN:VCALENDAR
VERSION:2.0
PRODID:-//TYPO3/NONSGML Calendarize//EN
BEGIN:VEVENT
UID:calendarize-pro-senectute-permanence-numerique
SUMMARY:Pro Senectute: Permanence numérique
DESCRIPTION:
DTSTAMP:20260424T150052Z
DTSTART:20260424T140000Z
DTEND:20260424T150000Z
LOCATION:Salle Castelmont 3
END:VEVENT
END:VCALENDAR
