BEGIN:VCALENDAR
VERSION:2.0
PRODID:-//TYPO3/NONSGML Calendarize//EN
BEGIN:VEVENT
UID:calendarize-la-bibliotheque-fait-son-cinema-3
SUMMARY:La Bibliothèque fait son cinéma !
DESCRIPTION:
DTSTAMP:20260420T140932Z
DTSTART:20170927T123000Z
DTEND:20170927T150000Z
LOCATION:Salle du Conseil communal
END:VEVENT
END:VCALENDAR
