BEGIN:VCALENDAR
VERSION:2.0
PRODID:-//TYPO3/NONSGML Calendarize//EN
BEGIN:VEVENT
UID:calendarize-film-memoires-prilleranes-le-prilly-des-annees-1950
SUMMARY:Film Mémoires prilléranes : le Prilly des années 1950
DESCRIPTION:
DTSTAMP:20260423T143309Z
DTSTART:20260423T160000Z
LOCATION:Grande salle de Prilly
END:VEVENT
END:VCALENDAR
