BEGIN:VCALENDAR
VERSION:2.0
PRODID:-//TYPO3/NONSGML Calendarize//EN
BEGIN:VEVENT
UID:calendarize-exposition-voiesx-de-resistance
SUMMARY:Exposition Voi·es·x de résistance
DESCRIPTION:
DTSTAMP:20260422T172702Z
DTSTART:20260510T220000Z
DTEND:20260521T220000Z
LOCATION:Place Catherine Colomb\, Prilly
END:VEVENT
END:VCALENDAR
