BEGIN:VCALENDAR
VERSION:2.0
PRODID:-//TYPO3/NONSGML Calendarize//EN
BEGIN:VEVENT
UID:calendarize-exposition-portee-par-les-eleves-du-college-de-lunion
SUMMARY:Exposition portée par les élèves du Collège de l’Union
DESCRIPTION:
DTSTAMP:20260422T170734Z
DTSTART:20260511T220000Z
DTEND:20260520T220000Z
LOCATION:Centre commercial Prilly Centre 
END:VEVENT
END:VCALENDAR
