BEGIN:VCALENDAR
VERSION:2.0
PRODID:-//TYPO3/NONSGML Calendarize//EN
BEGIN:VEVENT
UID:calendarize-ete-au-quartier
SUMMARY:Été au quartier
DESCRIPTION:
DTSTAMP:20260422T141037Z
DTSTART:20260422T120000Z
DTEND:20260422T150000Z
LOCATION:
END:VEVENT
END:VCALENDAR
