BEGIN:VCALENDAR
VERSION:2.0
PRODID:-//TYPO3/NONSGML Calendarize//EN
BEGIN:VEVENT
UID:calendarize-bibliotheque-spectacle-de-marionnettes
SUMMARY:Bibliothèque - spectacle de marionnettes
DESCRIPTION:
DTSTAMP:20260420T140911Z
DTSTART:20181003T130000Z
DTEND:20181003T150000Z
LOCATION:Bibliothèque communale de Prilly
END:VEVENT
END:VCALENDAR
